BEGIN:VCALENDAR
VERSION:2.0
PRODID:-//Frankie J&#039;s - Nashville - ECPv6.15.18//NONSGML v1.0//EN
CALSCALE:GREGORIAN
METHOD:PUBLISH
X-WR-CALNAME:Frankie J&#039;s - Nashville
X-ORIGINAL-URL:https://frankiejsnashville.com
X-WR-CALDESC:Events for Frankie J&#039;s - Nashville
REFRESH-INTERVAL;VALUE=DURATION:PT1H
X-Robots-Tag:noindex
X-PUBLISHED-TTL:PT1H
BEGIN:VTIMEZONE
TZID:America/Chicago
BEGIN:DAYLIGHT
TZOFFSETFROM:-0600
TZOFFSETTO:-0500
TZNAME:CDT
DTSTART:20250309T080000
END:DAYLIGHT
BEGIN:STANDARD
TZOFFSETFROM:-0500
TZOFFSETTO:-0600
TZNAME:CST
DTSTART:20251102T070000
END:STANDARD
BEGIN:DAYLIGHT
TZOFFSETFROM:-0600
TZOFFSETTO:-0500
TZNAME:CDT
DTSTART:20260308T080000
END:DAYLIGHT
BEGIN:STANDARD
TZOFFSETFROM:-0500
TZOFFSETTO:-0600
TZNAME:CST
DTSTART:20261101T070000
END:STANDARD
BEGIN:DAYLIGHT
TZOFFSETFROM:-0600
TZOFFSETTO:-0500
TZNAME:CDT
DTSTART:20270314T080000
END:DAYLIGHT
BEGIN:STANDARD
TZOFFSETFROM:-0500
TZOFFSETTO:-0600
TZNAME:CST
DTSTART:20271107T070000
END:STANDARD
BEGIN:DAYLIGHT
TZOFFSETFROM:-0600
TZOFFSETTO:-0500
TZNAME:CDT
DTSTART:20280312T080000
END:DAYLIGHT
BEGIN:STANDARD
TZOFFSETFROM:-0500
TZOFFSETTO:-0600
TZNAME:CST
DTSTART:20281105T070000
END:STANDARD
BEGIN:DAYLIGHT
TZOFFSETFROM:-0600
TZOFFSETTO:-0500
TZNAME:CDT
DTSTART:20290311T080000
END:DAYLIGHT
BEGIN:STANDARD
TZOFFSETFROM:-0500
TZOFFSETTO:-0600
TZNAME:CST
DTSTART:20291104T070000
END:STANDARD
BEGIN:DAYLIGHT
TZOFFSETFROM:-0600
TZOFFSETTO:-0500
TZNAME:CDT
DTSTART:20300310T080000
END:DAYLIGHT
BEGIN:STANDARD
TZOFFSETFROM:-0500
TZOFFSETTO:-0600
TZNAME:CST
DTSTART:20301103T070000
END:STANDARD
BEGIN:DAYLIGHT
TZOFFSETFROM:-0600
TZOFFSETTO:-0500
TZNAME:CDT
DTSTART:20310309T080000
END:DAYLIGHT
BEGIN:STANDARD
TZOFFSETFROM:-0500
TZOFFSETTO:-0600
TZNAME:CST
DTSTART:20311102T070000
END:STANDARD
END:VTIMEZONE
BEGIN:VEVENT
DTSTART;VALUE=DATE:20260515
DTEND;VALUE=DATE:20260516
DTSTAMP:20260420T025523
CREATED:20241216T205709Z
LAST-MODIFIED:20250509T173630Z
UID:10001304-1778803200-1778889599@frankiejsnashville.com
SUMMARY:Conductors Club
DESCRIPTION:3rd Friday of Every Other Month (Starts January 2025 at the bar!) – 7:00 pm – 11:00 pm \nDom\, Sub\, wrapped\, strapped\, capped\, cinched\, studded\, or just a fan! Come bask in the warm accessoried glow… \n 
URL:https://frankiejsnashville.com/event/conductors-club/2026-05-15/
ATTACH;FMTTYPE=image/jpeg:https://frankiejsnashville.com/wp-content/uploads/2024/12/ConductorsClub.jpg
END:VEVENT
BEGIN:VEVENT
DTSTART;VALUE=DATE:20260717
DTEND;VALUE=DATE:20260718
DTSTAMP:20260420T025523
CREATED:20241216T205709Z
LAST-MODIFIED:20250509T173630Z
UID:10001306-1784246400-1784332799@frankiejsnashville.com
SUMMARY:Conductors Club
DESCRIPTION:3rd Friday of Every Other Month (Starts January 2025 at the bar!) – 7:00 pm – 11:00 pm \nDom\, Sub\, wrapped\, strapped\, capped\, cinched\, studded\, or just a fan! Come bask in the warm accessoried glow… \n 
URL:https://frankiejsnashville.com/event/conductors-club/2026-07-17/
ATTACH;FMTTYPE=image/jpeg:https://frankiejsnashville.com/wp-content/uploads/2024/12/ConductorsClub.jpg
END:VEVENT
BEGIN:VEVENT
DTSTART;VALUE=DATE:20260918
DTEND;VALUE=DATE:20260919
DTSTAMP:20260420T025523
CREATED:20241216T205709Z
LAST-MODIFIED:20250509T173630Z
UID:10001308-1789689600-1789775999@frankiejsnashville.com
SUMMARY:Conductors Club
DESCRIPTION:3rd Friday of Every Other Month (Starts January 2025 at the bar!) – 7:00 pm – 11:00 pm \nDom\, Sub\, wrapped\, strapped\, capped\, cinched\, studded\, or just a fan! Come bask in the warm accessoried glow… \n 
URL:https://frankiejsnashville.com/event/conductors-club/2026-09-18/
ATTACH;FMTTYPE=image/jpeg:https://frankiejsnashville.com/wp-content/uploads/2024/12/ConductorsClub.jpg
END:VEVENT
BEGIN:VEVENT
DTSTART;VALUE=DATE:20261120
DTEND;VALUE=DATE:20261121
DTSTAMP:20260420T025523
CREATED:20241216T205709Z
LAST-MODIFIED:20250509T173630Z
UID:10001310-1795132800-1795219199@frankiejsnashville.com
SUMMARY:Conductors Club
DESCRIPTION:3rd Friday of Every Other Month (Starts January 2025 at the bar!) – 7:00 pm – 11:00 pm \nDom\, Sub\, wrapped\, strapped\, capped\, cinched\, studded\, or just a fan! Come bask in the warm accessoried glow… \n 
URL:https://frankiejsnashville.com/event/conductors-club/2026-11-20/
ATTACH;FMTTYPE=image/jpeg:https://frankiejsnashville.com/wp-content/uploads/2024/12/ConductorsClub.jpg
END:VEVENT
BEGIN:VEVENT
DTSTART;VALUE=DATE:20270115
DTEND;VALUE=DATE:20270116
DTSTAMP:20260420T025523
CREATED:20241216T205709Z
LAST-MODIFIED:20250509T173630Z
UID:10001312-1799971200-1800057599@frankiejsnashville.com
SUMMARY:Conductors Club
DESCRIPTION:3rd Friday of Every Other Month (Starts January 2025 at the bar!) – 7:00 pm – 11:00 pm \nDom\, Sub\, wrapped\, strapped\, capped\, cinched\, studded\, or just a fan! Come bask in the warm accessoried glow… \n 
URL:https://frankiejsnashville.com/event/conductors-club/2027-01-15/
ATTACH;FMTTYPE=image/jpeg:https://frankiejsnashville.com/wp-content/uploads/2024/12/ConductorsClub.jpg
END:VEVENT
BEGIN:VEVENT
DTSTART;VALUE=DATE:20270319
DTEND;VALUE=DATE:20270320
DTSTAMP:20260420T025523
CREATED:20241216T205709Z
LAST-MODIFIED:20250509T173630Z
UID:10001314-1805414400-1805500799@frankiejsnashville.com
SUMMARY:Conductors Club
DESCRIPTION:3rd Friday of Every Other Month (Starts January 2025 at the bar!) – 7:00 pm – 11:00 pm \nDom\, Sub\, wrapped\, strapped\, capped\, cinched\, studded\, or just a fan! Come bask in the warm accessoried glow… \n 
URL:https://frankiejsnashville.com/event/conductors-club/2027-03-19/
ATTACH;FMTTYPE=image/jpeg:https://frankiejsnashville.com/wp-content/uploads/2024/12/ConductorsClub.jpg
END:VEVENT
BEGIN:VEVENT
DTSTART;VALUE=DATE:20270521
DTEND;VALUE=DATE:20270522
DTSTAMP:20260420T025523
CREATED:20241216T205709Z
LAST-MODIFIED:20250509T173630Z
UID:10001316-1810857600-1810943999@frankiejsnashville.com
SUMMARY:Conductors Club
DESCRIPTION:3rd Friday of Every Other Month (Starts January 2025 at the bar!) – 7:00 pm – 11:00 pm \nDom\, Sub\, wrapped\, strapped\, capped\, cinched\, studded\, or just a fan! Come bask in the warm accessoried glow… \n 
URL:https://frankiejsnashville.com/event/conductors-club/2027-05-21/
ATTACH;FMTTYPE=image/jpeg:https://frankiejsnashville.com/wp-content/uploads/2024/12/ConductorsClub.jpg
END:VEVENT
BEGIN:VEVENT
DTSTART;VALUE=DATE:20270716
DTEND;VALUE=DATE:20270717
DTSTAMP:20260420T025523
CREATED:20241216T205709Z
LAST-MODIFIED:20250509T173630Z
UID:10001318-1815696000-1815782399@frankiejsnashville.com
SUMMARY:Conductors Club
DESCRIPTION:3rd Friday of Every Other Month (Starts January 2025 at the bar!) – 7:00 pm – 11:00 pm \nDom\, Sub\, wrapped\, strapped\, capped\, cinched\, studded\, or just a fan! Come bask in the warm accessoried glow… \n 
URL:https://frankiejsnashville.com/event/conductors-club/2027-07-16/
ATTACH;FMTTYPE=image/jpeg:https://frankiejsnashville.com/wp-content/uploads/2024/12/ConductorsClub.jpg
END:VEVENT
BEGIN:VEVENT
DTSTART;VALUE=DATE:20270917
DTEND;VALUE=DATE:20270918
DTSTAMP:20260420T025523
CREATED:20241216T205709Z
LAST-MODIFIED:20250509T173630Z
UID:10001320-1821139200-1821225599@frankiejsnashville.com
SUMMARY:Conductors Club
DESCRIPTION:3rd Friday of Every Other Month (Starts January 2025 at the bar!) – 7:00 pm – 11:00 pm \nDom\, Sub\, wrapped\, strapped\, capped\, cinched\, studded\, or just a fan! Come bask in the warm accessoried glow… \n 
URL:https://frankiejsnashville.com/event/conductors-club/2027-09-17/
ATTACH;FMTTYPE=image/jpeg:https://frankiejsnashville.com/wp-content/uploads/2024/12/ConductorsClub.jpg
END:VEVENT
BEGIN:VEVENT
DTSTART;VALUE=DATE:20271119
DTEND;VALUE=DATE:20271120
DTSTAMP:20260420T025523
CREATED:20241216T205709Z
LAST-MODIFIED:20250509T173630Z
UID:10001322-1826582400-1826668799@frankiejsnashville.com
SUMMARY:Conductors Club
DESCRIPTION:3rd Friday of Every Other Month (Starts January 2025 at the bar!) – 7:00 pm – 11:00 pm \nDom\, Sub\, wrapped\, strapped\, capped\, cinched\, studded\, or just a fan! Come bask in the warm accessoried glow… \n 
URL:https://frankiejsnashville.com/event/conductors-club/2027-11-19/
ATTACH;FMTTYPE=image/jpeg:https://frankiejsnashville.com/wp-content/uploads/2024/12/ConductorsClub.jpg
END:VEVENT
BEGIN:VEVENT
DTSTART;VALUE=DATE:20280121
DTEND;VALUE=DATE:20280122
DTSTAMP:20260420T025523
CREATED:20241216T205709Z
LAST-MODIFIED:20250509T173630Z
UID:10001324-1832025600-1832111999@frankiejsnashville.com
SUMMARY:Conductors Club
DESCRIPTION:3rd Friday of Every Other Month (Starts January 2025 at the bar!) – 7:00 pm – 11:00 pm \nDom\, Sub\, wrapped\, strapped\, capped\, cinched\, studded\, or just a fan! Come bask in the warm accessoried glow… \n 
URL:https://frankiejsnashville.com/event/conductors-club/2028-01-21/
ATTACH;FMTTYPE=image/jpeg:https://frankiejsnashville.com/wp-content/uploads/2024/12/ConductorsClub.jpg
END:VEVENT
BEGIN:VEVENT
DTSTART;VALUE=DATE:20280317
DTEND;VALUE=DATE:20280318
DTSTAMP:20260420T025523
CREATED:20241216T205709Z
LAST-MODIFIED:20250509T173630Z
UID:10001326-1836864000-1836950399@frankiejsnashville.com
SUMMARY:Conductors Club
DESCRIPTION:3rd Friday of Every Other Month (Starts January 2025 at the bar!) – 7:00 pm – 11:00 pm \nDom\, Sub\, wrapped\, strapped\, capped\, cinched\, studded\, or just a fan! Come bask in the warm accessoried glow… \n 
URL:https://frankiejsnashville.com/event/conductors-club/2028-03-17/
ATTACH;FMTTYPE=image/jpeg:https://frankiejsnashville.com/wp-content/uploads/2024/12/ConductorsClub.jpg
END:VEVENT
BEGIN:VEVENT
DTSTART;VALUE=DATE:20280519
DTEND;VALUE=DATE:20280520
DTSTAMP:20260420T025523
CREATED:20241216T205709Z
LAST-MODIFIED:20250509T173630Z
UID:10001328-1842307200-1842393599@frankiejsnashville.com
SUMMARY:Conductors Club
DESCRIPTION:3rd Friday of Every Other Month (Starts January 2025 at the bar!) – 7:00 pm – 11:00 pm \nDom\, Sub\, wrapped\, strapped\, capped\, cinched\, studded\, or just a fan! Come bask in the warm accessoried glow… \n 
URL:https://frankiejsnashville.com/event/conductors-club/2028-05-19/
ATTACH;FMTTYPE=image/jpeg:https://frankiejsnashville.com/wp-content/uploads/2024/12/ConductorsClub.jpg
END:VEVENT
BEGIN:VEVENT
DTSTART;VALUE=DATE:20280721
DTEND;VALUE=DATE:20280722
DTSTAMP:20260420T025523
CREATED:20241216T205709Z
LAST-MODIFIED:20250509T173630Z
UID:10001330-1847750400-1847836799@frankiejsnashville.com
SUMMARY:Conductors Club
DESCRIPTION:3rd Friday of Every Other Month (Starts January 2025 at the bar!) – 7:00 pm – 11:00 pm \nDom\, Sub\, wrapped\, strapped\, capped\, cinched\, studded\, or just a fan! Come bask in the warm accessoried glow… \n 
URL:https://frankiejsnashville.com/event/conductors-club/2028-07-21/
ATTACH;FMTTYPE=image/jpeg:https://frankiejsnashville.com/wp-content/uploads/2024/12/ConductorsClub.jpg
END:VEVENT
BEGIN:VEVENT
DTSTART;VALUE=DATE:20280915
DTEND;VALUE=DATE:20280916
DTSTAMP:20260420T025523
CREATED:20241216T205709Z
LAST-MODIFIED:20250509T173630Z
UID:10001332-1852588800-1852675199@frankiejsnashville.com
SUMMARY:Conductors Club
DESCRIPTION:3rd Friday of Every Other Month (Starts January 2025 at the bar!) – 7:00 pm – 11:00 pm \nDom\, Sub\, wrapped\, strapped\, capped\, cinched\, studded\, or just a fan! Come bask in the warm accessoried glow… \n 
URL:https://frankiejsnashville.com/event/conductors-club/2028-09-15/
ATTACH;FMTTYPE=image/jpeg:https://frankiejsnashville.com/wp-content/uploads/2024/12/ConductorsClub.jpg
END:VEVENT
BEGIN:VEVENT
DTSTART;VALUE=DATE:20281117
DTEND;VALUE=DATE:20281118
DTSTAMP:20260420T025523
CREATED:20241216T205709Z
LAST-MODIFIED:20250509T173630Z
UID:10001334-1858032000-1858118399@frankiejsnashville.com
SUMMARY:Conductors Club
DESCRIPTION:3rd Friday of Every Other Month (Starts January 2025 at the bar!) – 7:00 pm – 11:00 pm \nDom\, Sub\, wrapped\, strapped\, capped\, cinched\, studded\, or just a fan! Come bask in the warm accessoried glow… \n 
URL:https://frankiejsnashville.com/event/conductors-club/2028-11-17/
ATTACH;FMTTYPE=image/jpeg:https://frankiejsnashville.com/wp-content/uploads/2024/12/ConductorsClub.jpg
END:VEVENT
BEGIN:VEVENT
DTSTART;VALUE=DATE:20290119
DTEND;VALUE=DATE:20290120
DTSTAMP:20260420T025523
CREATED:20241216T205709Z
LAST-MODIFIED:20250509T173630Z
UID:10001336-1863475200-1863561599@frankiejsnashville.com
SUMMARY:Conductors Club
DESCRIPTION:3rd Friday of Every Other Month (Starts January 2025 at the bar!) – 7:00 pm – 11:00 pm \nDom\, Sub\, wrapped\, strapped\, capped\, cinched\, studded\, or just a fan! Come bask in the warm accessoried glow… \n 
URL:https://frankiejsnashville.com/event/conductors-club/2029-01-19/
ATTACH;FMTTYPE=image/jpeg:https://frankiejsnashville.com/wp-content/uploads/2024/12/ConductorsClub.jpg
END:VEVENT
BEGIN:VEVENT
DTSTART;VALUE=DATE:20290316
DTEND;VALUE=DATE:20290317
DTSTAMP:20260420T025523
CREATED:20241216T205709Z
LAST-MODIFIED:20250509T173630Z
UID:10001338-1868313600-1868399999@frankiejsnashville.com
SUMMARY:Conductors Club
DESCRIPTION:3rd Friday of Every Other Month (Starts January 2025 at the bar!) – 7:00 pm – 11:00 pm \nDom\, Sub\, wrapped\, strapped\, capped\, cinched\, studded\, or just a fan! Come bask in the warm accessoried glow… \n 
URL:https://frankiejsnashville.com/event/conductors-club/2029-03-16/
ATTACH;FMTTYPE=image/jpeg:https://frankiejsnashville.com/wp-content/uploads/2024/12/ConductorsClub.jpg
END:VEVENT
BEGIN:VEVENT
DTSTART;VALUE=DATE:20290518
DTEND;VALUE=DATE:20290519
DTSTAMP:20260420T025523
CREATED:20241216T205709Z
LAST-MODIFIED:20250509T173630Z
UID:10001340-1873756800-1873843199@frankiejsnashville.com
SUMMARY:Conductors Club
DESCRIPTION:3rd Friday of Every Other Month (Starts January 2025 at the bar!) – 7:00 pm – 11:00 pm \nDom\, Sub\, wrapped\, strapped\, capped\, cinched\, studded\, or just a fan! Come bask in the warm accessoried glow… \n 
URL:https://frankiejsnashville.com/event/conductors-club/2029-05-18/
ATTACH;FMTTYPE=image/jpeg:https://frankiejsnashville.com/wp-content/uploads/2024/12/ConductorsClub.jpg
END:VEVENT
BEGIN:VEVENT
DTSTART;VALUE=DATE:20290720
DTEND;VALUE=DATE:20290721
DTSTAMP:20260420T025523
CREATED:20241216T205709Z
LAST-MODIFIED:20250509T173630Z
UID:10001342-1879200000-1879286399@frankiejsnashville.com
SUMMARY:Conductors Club
DESCRIPTION:3rd Friday of Every Other Month (Starts January 2025 at the bar!) – 7:00 pm – 11:00 pm \nDom\, Sub\, wrapped\, strapped\, capped\, cinched\, studded\, or just a fan! Come bask in the warm accessoried glow… \n 
URL:https://frankiejsnashville.com/event/conductors-club/2029-07-20/
ATTACH;FMTTYPE=image/jpeg:https://frankiejsnashville.com/wp-content/uploads/2024/12/ConductorsClub.jpg
END:VEVENT
BEGIN:VEVENT
DTSTART;VALUE=DATE:20290921
DTEND;VALUE=DATE:20290922
DTSTAMP:20260420T025523
CREATED:20241216T205709Z
LAST-MODIFIED:20250509T173630Z
UID:10001344-1884643200-1884729599@frankiejsnashville.com
SUMMARY:Conductors Club
DESCRIPTION:3rd Friday of Every Other Month (Starts January 2025 at the bar!) – 7:00 pm – 11:00 pm \nDom\, Sub\, wrapped\, strapped\, capped\, cinched\, studded\, or just a fan! Come bask in the warm accessoried glow… \n 
URL:https://frankiejsnashville.com/event/conductors-club/2029-09-21/
ATTACH;FMTTYPE=image/jpeg:https://frankiejsnashville.com/wp-content/uploads/2024/12/ConductorsClub.jpg
END:VEVENT
BEGIN:VEVENT
DTSTART;VALUE=DATE:20291116
DTEND;VALUE=DATE:20291117
DTSTAMP:20260420T025523
CREATED:20241216T205709Z
LAST-MODIFIED:20250509T173630Z
UID:10001346-1889481600-1889567999@frankiejsnashville.com
SUMMARY:Conductors Club
DESCRIPTION:3rd Friday of Every Other Month (Starts January 2025 at the bar!) – 7:00 pm – 11:00 pm \nDom\, Sub\, wrapped\, strapped\, capped\, cinched\, studded\, or just a fan! Come bask in the warm accessoried glow… \n 
URL:https://frankiejsnashville.com/event/conductors-club/2029-11-16/
ATTACH;FMTTYPE=image/jpeg:https://frankiejsnashville.com/wp-content/uploads/2024/12/ConductorsClub.jpg
END:VEVENT
BEGIN:VEVENT
DTSTART;VALUE=DATE:20300118
DTEND;VALUE=DATE:20300119
DTSTAMP:20260420T025523
CREATED:20241216T205709Z
LAST-MODIFIED:20250509T173630Z
UID:10005216-1894924800-1895011199@frankiejsnashville.com
SUMMARY:Conductors Club
DESCRIPTION:3rd Friday of Every Other Month (Starts January 2025 at the bar!) – 7:00 pm – 11:00 pm \nDom\, Sub\, wrapped\, strapped\, capped\, cinched\, studded\, or just a fan! Come bask in the warm accessoried glow… \n 
URL:https://frankiejsnashville.com/event/conductors-club/2030-01-18/
ATTACH;FMTTYPE=image/jpeg:https://frankiejsnashville.com/wp-content/uploads/2024/12/ConductorsClub.jpg
END:VEVENT
BEGIN:VEVENT
DTSTART;VALUE=DATE:20300315
DTEND;VALUE=DATE:20300316
DTSTAMP:20260420T025523
CREATED:20241216T205709Z
LAST-MODIFIED:20250509T173630Z
UID:10005217-1899763200-1899849599@frankiejsnashville.com
SUMMARY:Conductors Club
DESCRIPTION:3rd Friday of Every Other Month (Starts January 2025 at the bar!) – 7:00 pm – 11:00 pm \nDom\, Sub\, wrapped\, strapped\, capped\, cinched\, studded\, or just a fan! Come bask in the warm accessoried glow… \n 
URL:https://frankiejsnashville.com/event/conductors-club/2030-03-15/
ATTACH;FMTTYPE=image/jpeg:https://frankiejsnashville.com/wp-content/uploads/2024/12/ConductorsClub.jpg
END:VEVENT
END:VCALENDAR